BEGIN:VCALENDAR
VERSION:2.0
PRODID:-//Brooklyn Charter School - ECPv6.15.13//NONSGML v1.0//EN
CALSCALE:GREGORIAN
METHOD:PUBLISH
X-WR-CALNAME:Brooklyn Charter School
X-ORIGINAL-URL:https://brooklyncharter.org
X-WR-CALDESC:Events for Brooklyn Charter School
REFRESH-INTERVAL;VALUE=DURATION:PT1H
X-Robots-Tag:noindex
X-PUBLISHED-TTL:PT1H
BEGIN:VTIMEZONE
TZID:UTC
BEGIN:STANDARD
TZOFFSETFROM:+0000
TZOFFSETTO:+0000
TZNAME:UTC
DTSTART:20210101T000000
END:STANDARD
END:VTIMEZONE
BEGIN:VEVENT
DTSTART;VALUE=DATE:20230330
DTEND;VALUE=DATE:20230331
DTSTAMP:20260422T060311
CREATED:20230309T163220Z
LAST-MODIFIED:20230309T163353Z
UID:2926-1680134400-1680220799@brooklyncharter.org
SUMMARY:Spring Parent-Teacher Conferences
DESCRIPTION:Spring Parent-Teacher Conferences \n(1/2 day for all scholars)  \n12:30 p.m. dismissal 
URL:https://brooklyncharter.org/school/spring-parent-teacher-conferences/
END:VEVENT
BEGIN:VEVENT
DTSTART;VALUE=DATE:20230324
DTEND;VALUE=DATE:20230325
DTSTAMP:20260422T060311
CREATED:20230309T162905Z
LAST-MODIFIED:20230309T162905Z
UID:2923-1679616000-1679702399@brooklyncharter.org
SUMMARY:CRAYOLA DAY !
DESCRIPTION:Spirit Day: Crayola Day \nStudents will wear colors based on grade. \nkindergarten: Green \n1st Grade: Yellow \n2nd Grade: Orange \n3rd Grade: Purple \n4th Grade: Blue \n5th Grade: Red
URL:https://brooklyncharter.org/school/crayola-day/
END:VEVENT
BEGIN:VEVENT
DTSTART;VALUE=DATE:20230313
DTEND;VALUE=DATE:20230318
DTSTAMP:20260422T060311
CREATED:20230208T155659Z
LAST-MODIFIED:20230208T155659Z
UID:2876-1678665600-1679097599@brooklyncharter.org
SUMMARY:Book Fair
DESCRIPTION:
URL:https://brooklyncharter.org/school/book-fair/
END:VEVENT
BEGIN:VEVENT
DTSTART;VALUE=DATE:20230309
DTEND;VALUE=DATE:20230310
DTSTAMP:20260422T060311
CREATED:20230208T155529Z
LAST-MODIFIED:20230208T155529Z
UID:2874-1678320000-1678406399@brooklyncharter.org
SUMMARY:PICTURE DAY
DESCRIPTION:
URL:https://brooklyncharter.org/school/picture-day/
END:VEVENT
BEGIN:VEVENT
DTSTART;TZID=UTC:20230308T180000
DTEND;TZID=UTC:20230308T190000
DTSTAMP:20260422T060311
CREATED:20230309T162536Z
LAST-MODIFIED:20230309T162536Z
UID:2921-1678298400-1678302000@brooklyncharter.org
SUMMARY:WELCOME BACK
DESCRIPTION:“Welcome Back” Parent Meeting \n 
URL:https://brooklyncharter.org/school/welcome-back/
END:VEVENT
BEGIN:VEVENT
DTSTART;VALUE=DATE:20230227
DTEND;VALUE=DATE:20230228
DTSTAMP:20260422T060311
CREATED:20230208T201636Z
LAST-MODIFIED:20230208T201636Z
UID:2881-1677456000-1677542399@brooklyncharter.org
SUMMARY:school board meeting
DESCRIPTION:
URL:https://brooklyncharter.org/school/school-board-meeting-3/
END:VEVENT
BEGIN:VEVENT
DTSTART;VALUE=DATE:20230220
DTEND;VALUE=DATE:20230225
DTSTAMP:20260422T060311
CREATED:20230119T152020Z
LAST-MODIFIED:20230119T152020Z
UID:2823-1676851200-1677283199@brooklyncharter.org
SUMMARY:SCHOOL CLOSED - Mid-Winter Recess
DESCRIPTION:
URL:https://brooklyncharter.org/school/school-closed-mid-winter-recess/
END:VEVENT
BEGIN:VEVENT
DTSTART;VALUE=DATE:20230216
DTEND;VALUE=DATE:20230217
DTSTAMP:20260422T060311
CREATED:20230213T165123Z
LAST-MODIFIED:20230213T165123Z
UID:2891-1676505600-1676591999@brooklyncharter.org
SUMMARY:Student Drawing Competition Finals
DESCRIPTION:
URL:https://brooklyncharter.org/school/student-drawing-competition-finals/
END:VEVENT
BEGIN:VEVENT
DTSTART;TZID=UTC:20230213T180000
DTEND;TZID=UTC:20230213T190000
DTSTAMP:20260422T060311
CREATED:20230213T165049Z
LAST-MODIFIED:20230213T165049Z
UID:2889-1676311200-1676314800@brooklyncharter.org
SUMMARY:Baba O's Drum Night
DESCRIPTION:
URL:https://brooklyncharter.org/school/baba-os-drum-night/
END:VEVENT
BEGIN:VEVENT
DTSTART;VALUE=DATE:20230127
DTEND;VALUE=DATE:20230128
DTSTAMP:20260422T060311
CREATED:20230119T153050Z
LAST-MODIFIED:20230119T153050Z
UID:2844-1674777600-1674863999@brooklyncharter.org
SUMMARY:SPIRIT DAY
DESCRIPTION:Creative/Crazy Hat Day!
URL:https://brooklyncharter.org/school/spirit-day/
END:VEVENT
BEGIN:VEVENT
DTSTART;VALUE=DATE:20230127
DTEND;VALUE=DATE:20230128
DTSTAMP:20260422T060311
CREATED:20230105T182109Z
LAST-MODIFIED:20230105T182109Z
UID:2777-1674777600-1674863999@brooklyncharter.org
SUMMARY:
DESCRIPTION:CREATIVE HAT DAY! \nBCS Spirit day
URL:https://brooklyncharter.org/school/2777/
END:VEVENT
BEGIN:VEVENT
DTSTART;VALUE=DATE:20230124
DTEND;VALUE=DATE:20230125
DTSTAMP:20260422T060311
CREATED:20230208T201607Z
LAST-MODIFIED:20230208T201607Z
UID:2879-1674518400-1674604799@brooklyncharter.org
SUMMARY:school board meeting
DESCRIPTION:
URL:https://brooklyncharter.org/school/school-board-meeting-2/
END:VEVENT
BEGIN:VEVENT
DTSTART;TZID=UTC:20230119T180000
DTEND;TZID=UTC:20230119T190000
DTSTAMP:20260422T060311
CREATED:20230105T170002Z
LAST-MODIFIED:20230105T170002Z
UID:2774-1674151200-1674154800@brooklyncharter.org
SUMMARY:Slime Night
DESCRIPTION:Its slime night ! Come learn how to make many forms of slime. \nFrom fluffy\, bouncy\, and jelly slime  –  the slime will be endless! \n  \n*Prior to the event all parents must RSVP by January 10th ( link is down below) . \nIf you have missed the deadline please give us a call.
URL:https://brooklyncharter.org/school/slime-night/
END:VEVENT
BEGIN:VEVENT
DTSTART;VALUE=DATE:20221226
DTEND;VALUE=DATE:20230103
DTSTAMP:20260422T060311
CREATED:20221215T184022Z
LAST-MODIFIED:20230105T165042Z
UID:2747-1672012800-1672703999@brooklyncharter.org
SUMMARY:Winter Recess -SCHOOL CLOSED-
DESCRIPTION:
URL:https://brooklyncharter.org/school/winter-recess-school-closed/
END:VEVENT
BEGIN:VEVENT
DTSTART;VALUE=DATE:20221223
DTEND;VALUE=DATE:20221224
DTSTAMP:20260422T060311
CREATED:20221215T183726Z
LAST-MODIFIED:20221215T183726Z
UID:2745-1671753600-1671839999@brooklyncharter.org
SUMMARY:Spirit Day - Creative Sweater Day
DESCRIPTION:
URL:https://brooklyncharter.org/school/spirit-day-creative-sweater-day/
END:VEVENT
BEGIN:VEVENT
DTSTART;VALUE=DATE:20221221
DTEND;VALUE=DATE:20221223
DTSTAMP:20260422T060311
CREATED:20221215T183437Z
LAST-MODIFIED:20221219T142540Z
UID:2743-1671580800-1671753599@brooklyncharter.org
SUMMARY:SMILE NY - In School Dentist -
DESCRIPTION:
URL:https://brooklyncharter.org/school/smile-ny-in-school-dentist/
END:VEVENT
BEGIN:VEVENT
DTSTART;VALUE=DATE:20221212
DTEND;VALUE=DATE:20221217
DTSTAMP:20260422T060311
CREATED:20221020T180516Z
LAST-MODIFIED:20221020T180516Z
UID:1498-1670803200-1671235199@brooklyncharter.org
SUMMARY:Tis' the Season
DESCRIPTION:WEEK of December 12-16 \n( Participants Only )
URL:https://brooklyncharter.org/school/tis-the-season/
END:VEVENT
BEGIN:VEVENT
DTSTART;TZID=UTC:20221130T180000
DTEND;TZID=UTC:20221130T193000
DTSTAMP:20260422T060311
CREATED:20221121T144737Z
LAST-MODIFIED:20221121T144737Z
UID:2722-1669831200-1669836600@brooklyncharter.org
SUMMARY:Brooklyn Charter School Board of Trustees Public Meeting ( ZOOM)
DESCRIPTION:Brooklyn Charter School Board of Trustees Public Meeting\nDate: November 30\, 2022\nTime: 6:00 p.m.\nPlace: Room 324\n\nTopic: Brooklyn Charter School Board of Trustees Monthly Meeting\nJoin Zoom Meeting\nhttps://us02web.zoom.us/j/84174585232?pwd=TDY2Vlpnanl1QkdDSEdSYjlVbGF1dz09
URL:https://brooklyncharter.org/school/brooklyn-charter-school-board-of-trustees-public-meeting-zoom/
END:VEVENT
BEGIN:VEVENT
DTSTART;VALUE=DATE:20221123
DTEND;VALUE=DATE:20221124
DTSTAMP:20260422T060311
CREATED:20221020T180334Z
LAST-MODIFIED:20221020T180334Z
UID:1496-1669161600-1669247999@brooklyncharter.org
SUMMARY:PIE In The Sky
DESCRIPTION:( participants and BCS staff  )
URL:https://brooklyncharter.org/school/pie-in-the-sky/
END:VEVENT
BEGIN:VEVENT
DTSTART;VALUE=DATE:20221117
DTEND;VALUE=DATE:20221118
DTSTAMP:20260422T060311
CREATED:20221107T144804Z
LAST-MODIFIED:20221107T144857Z
UID:2716-1668643200-1668729599@brooklyncharter.org
SUMMARY:Parent-Teacher Conferences
DESCRIPTION:Parent-Teacher Conferences (11:30 a.m. dismissal for students) \nZoom Parent-Teacher conferences from 1:30-8:00 p.m.
URL:https://brooklyncharter.org/school/parent-teacher-conferences/
END:VEVENT
BEGIN:VEVENT
DTSTART;VALUE=DATE:20221111
DTEND;VALUE=DATE:20221112
DTSTAMP:20260422T060311
CREATED:20221107T144608Z
LAST-MODIFIED:20221107T144608Z
UID:2714-1668124800-1668211199@brooklyncharter.org
SUMMARY:School closed in observance of Veterans Day
DESCRIPTION:
URL:https://brooklyncharter.org/school/school-closed-in-observance-of-veterans-day/
END:VEVENT
BEGIN:VEVENT
DTSTART;VALUE=DATE:20221110
DTEND;VALUE=DATE:20221111
DTSTAMP:20260422T060311
CREATED:20221107T144312Z
LAST-MODIFIED:20221107T144500Z
UID:2712-1668038400-1668124799@brooklyncharter.org
SUMMARY:Rescheduled Wiz Jr. Trip for Grades K-5
DESCRIPTION:
URL:https://brooklyncharter.org/school/rescheduled-wiz-jr-trip-for-grades-k-5/
END:VEVENT
BEGIN:VEVENT
DTSTART;VALUE=DATE:20221109
DTEND;VALUE=DATE:20221110
DTSTAMP:20260422T060311
CREATED:20221020T180941Z
LAST-MODIFIED:20221020T180941Z
UID:1502-1667952000-1668038399@brooklyncharter.org
SUMMARY:Student Inauguration Day
DESCRIPTION:
URL:https://brooklyncharter.org/school/student-inauguration-day/
END:VEVENT
BEGIN:VEVENT
DTSTART;VALUE=DATE:20221107
DTEND;VALUE=DATE:20221108
DTSTAMP:20260422T060311
CREATED:20221107T144220Z
LAST-MODIFIED:20221107T144220Z
UID:2710-1667779200-1667865599@brooklyncharter.org
SUMMARY:Official launch of our Popcornopolis Fundraiser
DESCRIPTION:
URL:https://brooklyncharter.org/school/official-launch-of-our-popcornopolis-fundraiser/
END:VEVENT
BEGIN:VEVENT
DTSTART;VALUE=DATE:20221107
DTEND;VALUE=DATE:20221108
DTSTAMP:20260422T060311
CREATED:20221107T144145Z
LAST-MODIFIED:20221107T144145Z
UID:2708-1667779200-1667865599@brooklyncharter.org
SUMMARY:Quarter 1 ends
DESCRIPTION:
URL:https://brooklyncharter.org/school/quarter-1-ends/
END:VEVENT
BEGIN:VEVENT
DTSTART;VALUE=DATE:20221028
DTEND;VALUE=DATE:20221210
DTSTAMP:20260422T060311
CREATED:20221020T180100Z
LAST-MODIFIED:20221020T180100Z
UID:1494-1666915200-1670630399@brooklyncharter.org
SUMMARY:Canned Food Drive
DESCRIPTION:( school-wide initiative )
URL:https://brooklyncharter.org/school/canned-food-drive/
END:VEVENT
BEGIN:VEVENT
DTSTART;VALUE=DATE:20221028
DTEND;VALUE=DATE:20221029
DTSTAMP:20260422T060311
CREATED:20221006T190740Z
LAST-MODIFIED:20221007T150251Z
UID:1451-1666915200-1667001599@brooklyncharter.org
SUMMARY:Character Day : Spirit Day
DESCRIPTION:         Character Day  is a special day where students who           \n         attend school show their school and team spirit by           \n         dressing up in line with their choice of character.          \n          These characters commonly consist of Superhero’s\, Villains\, \n          Cartoon Characters\, Disney Characters\, and MUCH MORE!!!
URL:https://brooklyncharter.org/school/character-day-spirit-day/
END:VEVENT
BEGIN:VEVENT
DTSTART;TZID=UTC:20221027T160000
DTEND;TZID=UTC:20221027T174500
DTSTAMP:20260422T060311
CREATED:20221020T175729Z
LAST-MODIFIED:20221020T180158Z
UID:1492-1666886400-1666892700@brooklyncharter.org
SUMMARY:Fall Festival
DESCRIPTION:Fall Festival at the Summit! Fall is a season to enjoy nature\, family\, and the beauty of nature. Have fun this fall by checking out our forthcoming festivities of the changing seasons. This event is open to participants only. \n 
URL:https://brooklyncharter.org/school/fall-festival/
END:VEVENT
BEGIN:VEVENT
DTSTART;VALUE=DATE:20221021
DTEND;VALUE=DATE:20221022
DTSTAMP:20260422T060311
CREATED:20221020T180812Z
LAST-MODIFIED:20221020T180812Z
UID:1500-1666310400-1666396799@brooklyncharter.org
SUMMARY:Student Election Day
DESCRIPTION:
URL:https://brooklyncharter.org/school/student-election-day/
END:VEVENT
BEGIN:VEVENT
DTSTART;VALUE=DATE:20221019
DTEND;VALUE=DATE:20221020
DTSTAMP:20260422T060311
CREATED:20221006T184630Z
LAST-MODIFIED:20221006T184630Z
UID:1440-1666137600-1666223999@brooklyncharter.org
SUMMARY:Day of Unity
DESCRIPTION:Day of unity !!! \nWear Orange
URL:https://brooklyncharter.org/school/day-of-unity/
END:VEVENT
END:VCALENDAR