BEGIN:VCALENDAR
VERSION:2.0
PRODID:-//Brooklyn Charter School - ECPv6.15.13//NONSGML v1.0//EN
CALSCALE:GREGORIAN
METHOD:PUBLISH
X-WR-CALNAME:Brooklyn Charter School
X-ORIGINAL-URL:https://brooklyncharter.org
X-WR-CALDESC:Events for Brooklyn Charter School
REFRESH-INTERVAL;VALUE=DURATION:PT1H
X-Robots-Tag:noindex
X-PUBLISHED-TTL:PT1H
BEGIN:VTIMEZONE
TZID:UTC
BEGIN:STANDARD
TZOFFSETFROM:+0000
TZOFFSETTO:+0000
TZNAME:UTC
DTSTART:20220101T000000
END:STANDARD
END:VTIMEZONE
BEGIN:VEVENT
DTSTART;VALUE=DATE:20230609
DTEND;VALUE=DATE:20230610
DTSTAMP:20260422T022857
CREATED:20230119T153004Z
LAST-MODIFIED:20230119T153004Z
UID:2842-1686268800-1686355199@brooklyncharter.org
SUMMARY:SCHOOL CLOSED FOR STUDENTS
DESCRIPTION:NYCDOE Clerical Day: No school for students. Clerical Day for faculty.
URL:https://brooklyncharter.org/school/school-closed-for-students/
END:VEVENT
BEGIN:VEVENT
DTSTART;VALUE=DATE:20230608
DTEND;VALUE=DATE:20230609
DTSTAMP:20260422T022857
CREATED:20230119T152807Z
LAST-MODIFIED:20230119T152807Z
UID:2840-1686182400-1686268799@brooklyncharter.org
SUMMARY:SCHOOL CLOSED FOR STUDENTS - Anniversary Day
DESCRIPTION:Anniversary Day: No school for students. Professional Development Day for faculty.
URL:https://brooklyncharter.org/school/school-closed-for-students-anniversary-day/
END:VEVENT
BEGIN:VEVENT
DTSTART;TZID=UTC:20230602T093000
DTEND;TZID=UTC:20230602T120000
DTSTAMP:20260422T022857
CREATED:20230522T145847Z
LAST-MODIFIED:20230522T145847Z
UID:3885-1685698200-1685707200@brooklyncharter.org
SUMMARY:3-5 Field Day
DESCRIPTION:3-5 Field Day \nMoring event – students will be back before lunch. \nPlease dress in comfortable breathable clothing. \nThis is a Sneakers only event.
URL:https://brooklyncharter.org/school/3-5-field-day/
END:VEVENT
BEGIN:VEVENT
DTSTART;TZID=UTC:20230601T093000
DTEND;TZID=UTC:20230601T120000
DTSTAMP:20260422T022857
CREATED:20230522T145804Z
LAST-MODIFIED:20230522T145804Z
UID:3883-1685611800-1685620800@brooklyncharter.org
SUMMARY:K-2 Field Day
DESCRIPTION:K-2 Field Day \nMoring event – students will be back before lunch. \nPlease dress in comfortable breathable clothing. \nThis is a Sneakers only event.
URL:https://brooklyncharter.org/school/k-2-field-day/
END:VEVENT
BEGIN:VEVENT
DTSTART;VALUE=DATE:20230529
DTEND;VALUE=DATE:20230530
DTSTAMP:20260422T022857
CREATED:20230119T152558Z
LAST-MODIFIED:20230119T152558Z
UID:2837-1685318400-1685404799@brooklyncharter.org
SUMMARY:SCHOOL CLOSED - Memorial Day
DESCRIPTION:
URL:https://brooklyncharter.org/school/school-closed-memorial-day/
END:VEVENT
BEGIN:VEVENT
DTSTART;VALUE=DATE:20230526
DTEND;VALUE=DATE:20230527
DTSTAMP:20260422T022857
CREATED:20230522T145016Z
LAST-MODIFIED:20230522T145016Z
UID:3881-1685059200-1685145599@brooklyncharter.org
SUMMARY:Rep your Culture Day!
DESCRIPTION:BCS Spirit Day ! \nStudents are encouraged to wear clothing that represents their culture and heritage.
URL:https://brooklyncharter.org/school/rep-your-culture-day-2/
END:VEVENT
BEGIN:VEVENT
DTSTART;TZID=UTC:20230519T190000
DTEND;TZID=UTC:20230519T210000
DTSTAMP:20260422T022857
CREATED:20230427T193307Z
LAST-MODIFIED:20230427T193307Z
UID:3476-1684522800-1684530000@brooklyncharter.org
SUMMARY:Sneaker Ball
DESCRIPTION:A sneaker ball is a black tie + sneaker gala… yes sneakers! Ditch the uncomfortable stilettos and oxfords for the night\, grab your most stylish sneakers and prepare to dance the night away! Whether you love Jordans\, Converse\, Vans or McQueens\, this is the night to wear them and show that BCS’ got SOLE! \nThis event will serve as a school-wide fundraiser. Join us as we celebrate our impact and our school community! All proceeds will benefit Brooklyn Charter School.
URL:https://brooklyncharter.org/school/sneaker-ball/
END:VEVENT
BEGIN:VEVENT
DTSTART;VALUE=DATE:20230517
DTEND;VALUE=DATE:20230518
DTSTAMP:20260422T022857
CREATED:20230427T193137Z
LAST-MODIFIED:20230427T193137Z
UID:3474-1684281600-1684367999@brooklyncharter.org
SUMMARY:BCS FEST
DESCRIPTION:BCS FEST! Visit our campus for the most exciting event of the year! featuring students’ live performances and a jam-packed schedule of activities.
URL:https://brooklyncharter.org/school/bcs-fest-2/
END:VEVENT
BEGIN:VEVENT
DTSTART;TZID=UTC:20230516T080000
DTEND;TZID=UTC:20230519T170000
DTSTAMP:20260422T022857
CREATED:20230427T192911Z
LAST-MODIFIED:20230427T192911Z
UID:3471-1684224000-1684515600@brooklyncharter.org
SUMMARY:HOMECOMING WEEK!
DESCRIPTION:The very first Homecoming celebration at a Brooklyn charter school! \nThere will be a week-long color war\, with each day having different activities and events. \nContrasting colors: RED and BLACK To whom does victory belong? Keep watching to find out who won….
URL:https://brooklyncharter.org/school/homecoming-week/
END:VEVENT
BEGIN:VEVENT
DTSTART;TZID=UTC:20230512T110000
DTEND;TZID=UTC:20230512T150000
DTSTAMP:20260422T022857
CREATED:20230427T193526Z
LAST-MODIFIED:20230427T193526Z
UID:3478-1683889200-1683903600@brooklyncharter.org
SUMMARY:Plant & Baked goods Bakesale
DESCRIPTION:With mothers day around the corner why not celebrate with a Bakesale! \nThis is not your average Bakesale… We will be selling baked goods and Plants!!! \n 
URL:https://brooklyncharter.org/school/plant-baked-goods-bakesale/
END:VEVENT
BEGIN:VEVENT
DTSTART;VALUE=DATE:20230503
DTEND;VALUE=DATE:20230505
DTSTAMP:20260422T022857
CREATED:20230427T192410Z
LAST-MODIFIED:20230427T192410Z
UID:3469-1683072000-1683244799@brooklyncharter.org
SUMMARY:NYS Math Exam
DESCRIPTION:NYS Math Test \nGrades 3-5
URL:https://brooklyncharter.org/school/nys-math-exam/
END:VEVENT
BEGIN:VEVENT
DTSTART;VALUE=DATE:20230428
DTEND;VALUE=DATE:20230429
DTSTAMP:20260422T022857
CREATED:20230426T155310Z
LAST-MODIFIED:20230426T155310Z
UID:3467-1682640000-1682726399@brooklyncharter.org
SUMMARY:Camouflage Day!
DESCRIPTION:Wear your best CAMO OUTFITS!!!
URL:https://brooklyncharter.org/school/camouflage-day/
END:VEVENT
BEGIN:VEVENT
DTSTART;TZID=UTC:20230427T180000
DTEND;TZID=UTC:20230427T190000
DTSTAMP:20260422T022857
CREATED:20230420T173350Z
LAST-MODIFIED:20230420T173350Z
UID:2973-1682618400-1682622000@brooklyncharter.org
SUMMARY:Brooklyn Charter School Board of Trustees Monthly Meeting
DESCRIPTION:Topic: Brooklyn Charter School Board of Trustees Monthly Meeting\nTime: 04.27.23 at 6PM \nRoom 322 \nJoin Zoom Meeting:\nhttps://us02web.zoom.us/j/84174585232?pwd=TDY2Vlpnanl1QkdDSEdSYjlVbGF1dz09 
URL:https://brooklyncharter.org/school/brooklyn-charter-school-board-of-trustees-monthly-meeting/
LOCATION:brooklyn charter school\, 545 Willoughby Ave\, Brooklyn\, NY\, 11206
END:VEVENT
BEGIN:VEVENT
DTSTART;TZID=UTC:20230426T180000
DTEND;TZID=UTC:20230426T190000
DTSTAMP:20260422T022857
CREATED:20230426T153625Z
LAST-MODIFIED:20230426T153625Z
UID:3464-1682532000-1682535600@brooklyncharter.org
SUMMARY:Parent Meeting
DESCRIPTION:Parent Meeting \n(6:00 p.m. in the school cafeteria) \n545 Willoughby ave Brooklyn NY 11206
URL:https://brooklyncharter.org/school/parent-meeting/
END:VEVENT
BEGIN:VEVENT
DTSTART;VALUE=DATE:20230421
DTEND;VALUE=DATE:20230422
DTSTAMP:20260422T022857
CREATED:20230119T152422Z
LAST-MODIFIED:20230119T152422Z
UID:2833-1682035200-1682121599@brooklyncharter.org
SUMMARY:SCHOOL CLOSED - Eid Ai Fitr
DESCRIPTION:
URL:https://brooklyncharter.org/school/school-closed-eid-ai-fitr/
END:VEVENT
BEGIN:VEVENT
DTSTART;VALUE=DATE:20230419
DTEND;VALUE=DATE:20230421
DTSTAMP:20260422T022857
CREATED:20230119T152324Z
LAST-MODIFIED:20230119T152324Z
UID:2831-1681862400-1682035199@brooklyncharter.org
SUMMARY:NYS ELA Test (Grades 3-5)
DESCRIPTION:
URL:https://brooklyncharter.org/school/nys-ela-test-grades-3-5/
END:VEVENT
BEGIN:VEVENT
DTSTART;VALUE=DATE:20230406
DTEND;VALUE=DATE:20230415
DTSTAMP:20260422T022857
CREATED:20230119T152232Z
LAST-MODIFIED:20230119T152232Z
UID:2829-1680739200-1681516799@brooklyncharter.org
SUMMARY:SCHOOL CLOSED - Spring Recess
DESCRIPTION:
URL:https://brooklyncharter.org/school/school-closed-spring-recess/
END:VEVENT
BEGIN:VEVENT
DTSTART;VALUE=DATE:20230405
DTEND;VALUE=DATE:20230406
DTSTAMP:20260422T022857
CREATED:20230403T140305Z
LAST-MODIFIED:20230403T140305Z
UID:2967-1680652800-1680739199@brooklyncharter.org
SUMMARY:5th Grade Spring Sale
DESCRIPTION:Hosted outside of the school cafeteria 5th grade will be selling Baked goods\, Treats\, Baskets and more! \nPrices will be ranging from $2.00 – $10.00
URL:https://brooklyncharter.org/school/5th-grade-spring-sale/
END:VEVENT
BEGIN:VEVENT
DTSTART;VALUE=DATE:20230403
DTEND;VALUE=DATE:20230404
DTSTAMP:20260422T022857
CREATED:20230119T152117Z
LAST-MODIFIED:20230119T152117Z
UID:2825-1680480000-1680566399@brooklyncharter.org
SUMMARY:BCS Public Lottery
DESCRIPTION:
URL:https://brooklyncharter.org/school/bcs-public-lottery/
END:VEVENT
BEGIN:VEVENT
DTSTART;VALUE=DATE:20230331
DTEND;VALUE=DATE:20230401
DTSTAMP:20260422T022857
CREATED:20230309T163308Z
LAST-MODIFIED:20230309T163308Z
UID:2928-1680220800-1680307199@brooklyncharter.org
SUMMARY:NYCDOE Parent Surveys due !
DESCRIPTION:Please submit NYCDOE Parent Surveys.
URL:https://brooklyncharter.org/school/nycdoe-parent-surveys-due/
END:VEVENT
BEGIN:VEVENT
DTSTART;VALUE=DATE:20230330
DTEND;VALUE=DATE:20230331
DTSTAMP:20260422T022857
CREATED:20230309T163220Z
LAST-MODIFIED:20230309T163353Z
UID:2926-1680134400-1680220799@brooklyncharter.org
SUMMARY:Spring Parent-Teacher Conferences
DESCRIPTION:Spring Parent-Teacher Conferences \n(1/2 day for all scholars)  \n12:30 p.m. dismissal 
URL:https://brooklyncharter.org/school/spring-parent-teacher-conferences/
END:VEVENT
BEGIN:VEVENT
DTSTART;VALUE=DATE:20230324
DTEND;VALUE=DATE:20230325
DTSTAMP:20260422T022857
CREATED:20230309T162905Z
LAST-MODIFIED:20230309T162905Z
UID:2923-1679616000-1679702399@brooklyncharter.org
SUMMARY:CRAYOLA DAY !
DESCRIPTION:Spirit Day: Crayola Day \nStudents will wear colors based on grade. \nkindergarten: Green \n1st Grade: Yellow \n2nd Grade: Orange \n3rd Grade: Purple \n4th Grade: Blue \n5th Grade: Red
URL:https://brooklyncharter.org/school/crayola-day/
END:VEVENT
BEGIN:VEVENT
DTSTART;VALUE=DATE:20230313
DTEND;VALUE=DATE:20230318
DTSTAMP:20260422T022857
CREATED:20230208T155659Z
LAST-MODIFIED:20230208T155659Z
UID:2876-1678665600-1679097599@brooklyncharter.org
SUMMARY:Book Fair
DESCRIPTION:
URL:https://brooklyncharter.org/school/book-fair/
END:VEVENT
BEGIN:VEVENT
DTSTART;VALUE=DATE:20230309
DTEND;VALUE=DATE:20230310
DTSTAMP:20260422T022857
CREATED:20230208T155529Z
LAST-MODIFIED:20230208T155529Z
UID:2874-1678320000-1678406399@brooklyncharter.org
SUMMARY:PICTURE DAY
DESCRIPTION:
URL:https://brooklyncharter.org/school/picture-day/
END:VEVENT
BEGIN:VEVENT
DTSTART;TZID=UTC:20230308T180000
DTEND;TZID=UTC:20230308T190000
DTSTAMP:20260422T022857
CREATED:20230309T162536Z
LAST-MODIFIED:20230309T162536Z
UID:2921-1678298400-1678302000@brooklyncharter.org
SUMMARY:WELCOME BACK
DESCRIPTION:“Welcome Back” Parent Meeting \n 
URL:https://brooklyncharter.org/school/welcome-back/
END:VEVENT
BEGIN:VEVENT
DTSTART;VALUE=DATE:20230227
DTEND;VALUE=DATE:20230228
DTSTAMP:20260422T022857
CREATED:20230208T201636Z
LAST-MODIFIED:20230208T201636Z
UID:2881-1677456000-1677542399@brooklyncharter.org
SUMMARY:school board meeting
DESCRIPTION:
URL:https://brooklyncharter.org/school/school-board-meeting-3/
END:VEVENT
BEGIN:VEVENT
DTSTART;VALUE=DATE:20230220
DTEND;VALUE=DATE:20230225
DTSTAMP:20260422T022857
CREATED:20230119T152020Z
LAST-MODIFIED:20230119T152020Z
UID:2823-1676851200-1677283199@brooklyncharter.org
SUMMARY:SCHOOL CLOSED - Mid-Winter Recess
DESCRIPTION:
URL:https://brooklyncharter.org/school/school-closed-mid-winter-recess/
END:VEVENT
BEGIN:VEVENT
DTSTART;VALUE=DATE:20230216
DTEND;VALUE=DATE:20230217
DTSTAMP:20260422T022857
CREATED:20230213T165123Z
LAST-MODIFIED:20230213T165123Z
UID:2891-1676505600-1676591999@brooklyncharter.org
SUMMARY:Student Drawing Competition Finals
DESCRIPTION:
URL:https://brooklyncharter.org/school/student-drawing-competition-finals/
END:VEVENT
BEGIN:VEVENT
DTSTART;TZID=UTC:20230213T180000
DTEND;TZID=UTC:20230213T190000
DTSTAMP:20260422T022857
CREATED:20230213T165049Z
LAST-MODIFIED:20230213T165049Z
UID:2889-1676311200-1676314800@brooklyncharter.org
SUMMARY:Baba O's Drum Night
DESCRIPTION:
URL:https://brooklyncharter.org/school/baba-os-drum-night/
END:VEVENT
BEGIN:VEVENT
DTSTART;VALUE=DATE:20230127
DTEND;VALUE=DATE:20230128
DTSTAMP:20260422T022857
CREATED:20230119T153050Z
LAST-MODIFIED:20230119T153050Z
UID:2844-1674777600-1674863999@brooklyncharter.org
SUMMARY:SPIRIT DAY
DESCRIPTION:Creative/Crazy Hat Day!
URL:https://brooklyncharter.org/school/spirit-day/
END:VEVENT
END:VCALENDAR