BEGIN:VCALENDAR
VERSION:2.0
PRODID:-//Brooklyn Charter School - ECPv6.15.13//NONSGML v1.0//EN
CALSCALE:GREGORIAN
METHOD:PUBLISH
X-ORIGINAL-URL:https://brooklyncharter.org
X-WR-CALDESC:Events for Brooklyn Charter School
REFRESH-INTERVAL;VALUE=DURATION:PT1H
X-Robots-Tag:noindex
X-PUBLISHED-TTL:PT1H
BEGIN:VTIMEZONE
TZID:UTC
BEGIN:STANDARD
TZOFFSETFROM:+0000
TZOFFSETTO:+0000
TZNAME:UTC
DTSTART:20220101T000000
END:STANDARD
END:VTIMEZONE
BEGIN:VEVENT
DTSTART;VALUE=DATE:20240322
DTEND;VALUE=DATE:20240323
DTSTAMP:20260421T184758
CREATED:20230912T133521Z
LAST-MODIFIED:20230912T133521Z
UID:5621-1711065600-1711151999@brooklyncharter.org
SUMMARY:Spirit Day: Camouflage Day
DESCRIPTION:Camouflage Day is the day when our school community gets ready to blend in and stand out all at once! On this spirited occasion\, students and staff are encouraged to wear camouflage-inspired outfits\, showcasing their creativity while embracing the challenge of going incognito.
URL:https://brooklyncharter.org/school/spirit-day-camouflage-day/
END:VEVENT
BEGIN:VEVENT
DTSTART;VALUE=DATE:20240311
DTEND;VALUE=DATE:20240316
DTSTAMP:20260421T184758
CREATED:20240110T143343Z
LAST-MODIFIED:20240110T143343Z
UID:5828-1710115200-1710547199@brooklyncharter.org
SUMMARY:Book Fair
DESCRIPTION:HELLO AND WLECOME TO OUR BOOK FAIR!!! \nschool book fair is a vibrant literary event that provides students\, teachers\, and parents with an enriching opportunity to explore a diverse selection of books. Held within the school premises\, the fair encourages a love for reading by offering a range of genres and age-appropriate titles\, fostering a community-wide celebration of literature and knowledge. \n  \n 
URL:https://brooklyncharter.org/school/book-fair-2/
END:VEVENT
BEGIN:VEVENT
DTSTART;VALUE=DATE:20240304
DTEND;VALUE=DATE:20240305
DTSTAMP:20260421T184758
CREATED:20240110T143513Z
LAST-MODIFIED:20240110T143513Z
UID:5830-1709510400-1709596799@brooklyncharter.org
SUMMARY:Picture Day
DESCRIPTION:BCS Picture Day (Uniforms required and 5th grade cap & gown pictures will be taken)
URL:https://brooklyncharter.org/school/picture-day-2/
END:VEVENT
BEGIN:VEVENT
DTSTART;VALUE=DATE:20240219
DTEND;VALUE=DATE:20240224
DTSTAMP:20260421T184758
CREATED:20230722T174305Z
LAST-MODIFIED:20230722T174305Z
UID:4727-1708300800-1708732799@brooklyncharter.org
SUMMARY:Mid-Winter Recess
DESCRIPTION:School is closed
URL:https://brooklyncharter.org/school/mid-winter-recess-2/
END:VEVENT
BEGIN:VEVENT
DTSTART;VALUE=DATE:20240216
DTEND;VALUE=DATE:20240217
DTSTAMP:20260421T184758
CREATED:20230912T133251Z
LAST-MODIFIED:20230912T133251Z
UID:5619-1708041600-1708127999@brooklyncharter.org
SUMMARY:Spirit Day: Career Day
DESCRIPTION:Career Day is an inspiring and educational celebration of ambition and aspiration at our school! On this special day\, students and staff are encouraged to dress up as their dream career or profession\, giving everyone a glimpse into their future aspirations.
URL:https://brooklyncharter.org/school/spirit-day-career-day/
END:VEVENT
BEGIN:VEVENT
DTSTART;VALUE=DATE:20240131
DTEND;VALUE=DATE:20240201
DTSTAMP:20260421T184758
CREATED:20240102T151647Z
LAST-MODIFIED:20240102T151647Z
UID:5799-1706659200-1706745599@brooklyncharter.org
SUMMARY:Quarter 2 Report Cards emailed to families
DESCRIPTION:
URL:https://brooklyncharter.org/school/quarter-2-report-cards-emailed-to-families/
END:VEVENT
BEGIN:VEVENT
DTSTART;VALUE=DATE:20240130
DTEND;VALUE=DATE:20240131
DTSTAMP:20260421T184758
CREATED:20240102T152134Z
LAST-MODIFIED:20240102T152134Z
UID:5821-1706572800-1706659199@brooklyncharter.org
SUMMARY:National Draw A Dinosaur Day
DESCRIPTION:Send your dino to our Instagram @BrooklynCharterSchool
URL:https://brooklyncharter.org/school/national-draw-a-dinosaur-day/
END:VEVENT
BEGIN:VEVENT
DTSTART;VALUE=DATE:20240127
DTEND;VALUE=DATE:20240128
DTSTAMP:20260421T184758
CREATED:20240102T152055Z
LAST-MODIFIED:20240102T152055Z
UID:5819-1706313600-1706399999@brooklyncharter.org
SUMMARY:Auschwitz Liberation Day
DESCRIPTION:
URL:https://brooklyncharter.org/school/auschwitz-liberation-day/
END:VEVENT
BEGIN:VEVENT
DTSTART;VALUE=DATE:20240126
DTEND;VALUE=DATE:20240127
DTSTAMP:20260421T184758
CREATED:20230912T132901Z
LAST-MODIFIED:20230912T132901Z
UID:5617-1706227200-1706313599@brooklyncharter.org
SUMMARY:Spirit Day: Preppy Day
DESCRIPTION:Preppy Day is a nod to classic style and a celebration of the timeless\, preppy fashion aesthetic! On this spirited occasion\, students and staff come together dressed in their most sophisticated and polished attire
URL:https://brooklyncharter.org/school/spirit-day-preppy-day/
END:VEVENT
BEGIN:VEVENT
DTSTART;VALUE=DATE:20240124
DTEND;VALUE=DATE:20240125
DTSTAMP:20260421T184758
CREATED:20240102T152039Z
LAST-MODIFIED:20240102T152039Z
UID:5817-1706054400-1706140799@brooklyncharter.org
SUMMARY:"Just Do It" Day
DESCRIPTION:
URL:https://brooklyncharter.org/school/just-do-it-day/
END:VEVENT
BEGIN:VEVENT
DTSTART;VALUE=DATE:20240122
DTEND;VALUE=DATE:20240123
DTSTAMP:20260421T184758
CREATED:20240102T152021Z
LAST-MODIFIED:20240102T152021Z
UID:5815-1705881600-1705967999@brooklyncharter.org
SUMMARY:National Grandpa Day
DESCRIPTION:
URL:https://brooklyncharter.org/school/national-grandpa-day/
END:VEVENT
BEGIN:VEVENT
DTSTART;VALUE=DATE:20240121
DTEND;VALUE=DATE:20240122
DTSTAMP:20260421T184758
CREATED:20240102T151932Z
LAST-MODIFIED:20240102T151932Z
UID:5813-1705795200-1705881599@brooklyncharter.org
SUMMARY:National Hugging Day
DESCRIPTION:
URL:https://brooklyncharter.org/school/national-hugging-day/
END:VEVENT
BEGIN:VEVENT
DTSTART;VALUE=DATE:20240118
DTEND;VALUE=DATE:20240119
DTSTAMP:20260421T184758
CREATED:20240102T151910Z
LAST-MODIFIED:20240102T151910Z
UID:5811-1705536000-1705622399@brooklyncharter.org
SUMMARY:Winnie the Pooh Day
DESCRIPTION:
URL:https://brooklyncharter.org/school/winnie-the-pooh-day/
END:VEVENT
BEGIN:VEVENT
DTSTART;VALUE=DATE:20240117
DTEND;VALUE=DATE:20240118
DTSTAMP:20260421T184758
CREATED:20240102T151724Z
LAST-MODIFIED:20240102T151724Z
UID:5801-1705449600-1705535999@brooklyncharter.org
SUMMARY:Parent Engagement Event
DESCRIPTION:
URL:https://brooklyncharter.org/school/parent-engagement-event/
END:VEVENT
BEGIN:VEVENT
DTSTART;VALUE=DATE:20240115
DTEND;VALUE=DATE:20240116
DTSTAMP:20260421T184758
CREATED:20230722T174158Z
LAST-MODIFIED:20230722T174158Z
UID:4725-1705276800-1705363199@brooklyncharter.org
SUMMARY:Martin Luther King Jr. Day
DESCRIPTION:School is closed.
URL:https://brooklyncharter.org/school/martin-luther-king-jr-day-2/
END:VEVENT
BEGIN:VEVENT
DTSTART;VALUE=DATE:20240113
DTEND;VALUE=DATE:20240114
DTSTAMP:20260421T184758
CREATED:20240102T151855Z
LAST-MODIFIED:20240102T151855Z
UID:5809-1705104000-1705190399@brooklyncharter.org
SUMMARY:National Rubber Ducky Day
DESCRIPTION:
URL:https://brooklyncharter.org/school/national-rubber-ducky-day/
END:VEVENT
BEGIN:VEVENT
DTSTART;VALUE=DATE:20240112
DTEND;VALUE=DATE:20240113
DTSTAMP:20260421T184758
CREATED:20240102T151841Z
LAST-MODIFIED:20240102T151841Z
UID:5807-1705017600-1705103999@brooklyncharter.org
SUMMARY:Stick to Your New Year's Resolution Day
DESCRIPTION:
URL:https://brooklyncharter.org/school/stick-to-your-new-years-resolution-day/
END:VEVENT
BEGIN:VEVENT
DTSTART;VALUE=DATE:20240110
DTEND;VALUE=DATE:20240111
DTSTAMP:20260421T184758
CREATED:20240102T151823Z
LAST-MODIFIED:20240102T151823Z
UID:5805-1704844800-1704931199@brooklyncharter.org
SUMMARY:National Take the Stairs Day
DESCRIPTION:
URL:https://brooklyncharter.org/school/national-take-the-stairs-day/
END:VEVENT
BEGIN:VEVENT
DTSTART;VALUE=DATE:20240108
DTEND;VALUE=DATE:20240109
DTSTAMP:20260421T184758
CREATED:20240102T151803Z
LAST-MODIFIED:20240102T151803Z
UID:5803-1704672000-1704758399@brooklyncharter.org
SUMMARY:National 4th Graders Day
DESCRIPTION:
URL:https://brooklyncharter.org/school/national-4th-graders-day/
END:VEVENT
BEGIN:VEVENT
DTSTART;VALUE=DATE:20240102
DTEND;VALUE=DATE:20240103
DTSTAMP:20260421T184758
CREATED:20230722T174108Z
LAST-MODIFIED:20230722T174108Z
UID:4723-1704153600-1704239999@brooklyncharter.org
SUMMARY:Students return from Winter Recess
DESCRIPTION:Welcome Back !
URL:https://brooklyncharter.org/school/students-return-from-winter-recess/
END:VEVENT
BEGIN:VEVENT
DTSTART;TZID=UTC:20231225T080000
DTEND;TZID=UTC:20240101T170000
DTSTAMP:20260421T184758
CREATED:20230722T174020Z
LAST-MODIFIED:20230722T174020Z
UID:4721-1703491200-1704128400@brooklyncharter.org
SUMMARY:Winter Recess
DESCRIPTION:School is Closed.
URL:https://brooklyncharter.org/school/winter-recess/
END:VEVENT
BEGIN:VEVENT
DTSTART;VALUE=DATE:20231222
DTEND;VALUE=DATE:20231223
DTSTAMP:20260421T184758
CREATED:20230912T132017Z
LAST-MODIFIED:20230912T132017Z
UID:5615-1703203200-1703289599@brooklyncharter.org
SUMMARY:Spirit Day: Creative Sweater Day
DESCRIPTION:Creative Sweater Day is the day when our school’s artistic and imaginative side takes center stage! On this spirited occasion\, students and staff are encouraged to wear the most eye-catching\, quirky\, and unique sweaters they can find or create. It’s a celebration of individuality\, creativity\, and\, of course\, school spirit.
URL:https://brooklyncharter.org/school/spirit-day-creative-sweater-day-2/
END:VEVENT
BEGIN:VEVENT
DTSTART;VALUE=DATE:20231122
DTEND;VALUE=DATE:20231125
DTSTAMP:20260421T184758
CREATED:20230722T173921Z
LAST-MODIFIED:20230722T173921Z
UID:4719-1700611200-1700870399@brooklyncharter.org
SUMMARY:Thanksgiving Break
DESCRIPTION:School is closed
URL:https://brooklyncharter.org/school/thanksgiving-break-2/
END:VEVENT
BEGIN:VEVENT
DTSTART;VALUE=DATE:20231117
DTEND;VALUE=DATE:20231118
DTSTAMP:20260421T184758
CREATED:20230912T131608Z
LAST-MODIFIED:20230912T131608Z
UID:5613-1700179200-1700265599@brooklyncharter.org
SUMMARY:Sprit Day: Pajama Day
DESCRIPTION:Get ready to roll out of bed and come to school in style because it’s Pajama Day\, the coziest and most relaxed day of the school year! On this special day\, students and staff are encouraged to ditch their usual uniforms or dress code and don their comfiest\, quirkiest\, or most fun pajamas.
URL:https://brooklyncharter.org/school/sprit-day-pajama-day/
END:VEVENT
BEGIN:VEVENT
DTSTART;VALUE=DATE:20231107
DTEND;VALUE=DATE:20231108
DTSTAMP:20260421T184758
CREATED:20230722T173821Z
LAST-MODIFIED:20230722T173821Z
UID:4717-1699315200-1699401599@brooklyncharter.org
SUMMARY:Election Day (Full In-Person Day for Students)
DESCRIPTION:Building is open.
URL:https://brooklyncharter.org/school/election-day-full-in-person-day-for-students/
END:VEVENT
BEGIN:VEVENT
DTSTART;VALUE=DATE:20231027
DTEND;VALUE=DATE:20231028
DTSTAMP:20260421T184758
CREATED:20230912T125718Z
LAST-MODIFIED:20230912T125718Z
UID:5611-1698364800-1698451199@brooklyncharter.org
SUMMARY:Spirit Day: Character Day
DESCRIPTION:On this spirited day\, students and staff come together to celebrate their love for fictional characters by dressing up as their all-time favorites. Whether it’s superheroes\, classic book characters\, beloved movie icons\, or even video game legends.
URL:https://brooklyncharter.org/school/spirit-day-character-day/
END:VEVENT
BEGIN:VEVENT
DTSTART;TZID=UTC:20231018T173000
DTEND;TZID=UTC:20231018T190000
DTSTAMP:20260421T184758
CREATED:20231010T130019Z
LAST-MODIFIED:20231010T130026Z
UID:5757-1697650200-1697655600@brooklyncharter.org
SUMMARY:Family Game Night (MUST RSVP)
DESCRIPTION:  \nJoin us October 18 at 5:30 Sharp! If you have a Nintendo Switch Please bring your controllers.
URL:https://brooklyncharter.org/school/family-game-night-must-rsvp/
END:VEVENT
BEGIN:VEVENT
DTSTART;VALUE=DATE:20231012
DTEND;VALUE=DATE:20231013
DTSTAMP:20260421T184758
CREATED:20231010T125558Z
LAST-MODIFIED:20231010T125558Z
UID:5755-1697068800-1697155199@brooklyncharter.org
SUMMARY:Today We Wear Pink
DESCRIPTION:BCS is hosting a dress-down fundraiser on Thursday\, 10/12/23 to honor “Breast Cancer Awareness Day.” Scholars may wear pink and pay $5.00 to participate. Adults in the building may wear pink and pay $10.00 to participate. This is a voluntary fundraiser. Scholars are not required to participate. A portion of the fundraiser will be donated to Breast Cancer Awareness and the remainder will benefit the 5th grade seniors.
URL:https://brooklyncharter.org/school/today-we-wear-pink/
END:VEVENT
BEGIN:VEVENT
DTSTART;VALUE=DATE:20231009
DTEND;VALUE=DATE:20231010
DTSTAMP:20260421T184758
CREATED:20230722T173723Z
LAST-MODIFIED:20230722T173723Z
UID:4715-1696809600-1696895999@brooklyncharter.org
SUMMARY:Indigenous Peoples' Day
DESCRIPTION:School is closed
URL:https://brooklyncharter.org/school/indigenous-peoples-day/
END:VEVENT
BEGIN:VEVENT
DTSTART;VALUE=DATE:20230929
DTEND;VALUE=DATE:20230930
DTSTAMP:20260421T184758
CREATED:20230912T125521Z
LAST-MODIFIED:20230912T125521Z
UID:5609-1695945600-1696031999@brooklyncharter.org
SUMMARY:Sports Fan Day
DESCRIPTION:Get ready to show off your true colors and unite in a wave of enthusiasm on Team Spirit Day! This spirited event encourages students\, teachers\, and staff to proudly represent their favorite sports teams. Whether it’s the local hometown heroes or the champions from afar\, everyone is invited to don their team’s jerseys\,  and colors.
URL:https://brooklyncharter.org/school/sports-fan-day/
END:VEVENT
END:VCALENDAR