BEGIN:VCALENDAR
VERSION:2.0
PRODID:-//Brooklyn Charter School - ECPv6.15.13//NONSGML v1.0//EN
CALSCALE:GREGORIAN
METHOD:PUBLISH
X-ORIGINAL-URL:https://brooklyncharter.org
X-WR-CALDESC:Events for Brooklyn Charter School
REFRESH-INTERVAL;VALUE=DURATION:PT1H
X-Robots-Tag:noindex
X-PUBLISHED-TTL:PT1H
BEGIN:VTIMEZONE
TZID:UTC
BEGIN:STANDARD
TZOFFSETFROM:+0000
TZOFFSETTO:+0000
TZNAME:UTC
DTSTART:20230101T000000
END:STANDARD
END:VTIMEZONE
BEGIN:VEVENT
DTSTART;VALUE=DATE:20241025
DTEND;VALUE=DATE:20241026
DTSTAMP:20260421T143621
CREATED:20241015T192925Z
LAST-MODIFIED:20241015T192925Z
UID:5920-1729814400-1729900799@brooklyncharter.org
SUMMARY:SPIRIT DAY: Character Day
DESCRIPTION:
URL:https://brooklyncharter.org/school/spirit-day-character-day-2/
END:VEVENT
BEGIN:VEVENT
DTSTART;TZID=UTC:20241024T180000
DTEND;TZID=UTC:20241024T190000
DTSTAMP:20260421T143621
CREATED:20241015T192745Z
LAST-MODIFIED:20241015T192745Z
UID:5918-1729792800-1729796400@brooklyncharter.org
SUMMARY:PTA Meeting & Family Engagement Event
DESCRIPTION:
URL:https://brooklyncharter.org/school/pta-meeting-family-engagement-event/
END:VEVENT
BEGIN:VEVENT
DTSTART;VALUE=DATE:20241021
DTEND;VALUE=DATE:20241024
DTSTAMP:20260421T143621
CREATED:20241015T191657Z
LAST-MODIFIED:20241015T191657Z
UID:5916-1729468800-1729727999@brooklyncharter.org
SUMMARY:Smile Dentists Visit
DESCRIPTION:The dentists are coming!
URL:https://brooklyncharter.org/school/smile-dentists-visit/
END:VEVENT
BEGIN:VEVENT
DTSTART;VALUE=DATE:20241014
DTEND;VALUE=DATE:20241015
DTSTAMP:20260421T143621
CREATED:20241015T191405Z
LAST-MODIFIED:20241015T191405Z
UID:5913-1728864000-1728950399@brooklyncharter.org
SUMMARY:BCS CLOSED
DESCRIPTION:We are closed in observance of Indigenous Peoples’ Day!
URL:https://brooklyncharter.org/school/bcs-closed/
END:VEVENT
BEGIN:VEVENT
DTSTART;TZID=UTC:20240927T080000
DTEND;TZID=UTC:20240927T170000
DTSTAMP:20260421T143621
CREATED:20241015T161746Z
LAST-MODIFIED:20241015T180437Z
UID:5904-1727424000-1727456400@brooklyncharter.org
SUMMARY:Spirit Day: Denim Day
DESCRIPTION:Join us in celebrating by wearing your best blue denim or blue jean material outfits. Whether it’s a classic pair of jeans\, a denim jacket\, or a full-on denim ensemble\, let’s rock that blue together and show our unity! We can’t wait to see everyone’s creative denim looks. Let’s set the tone for the year with this 1st Spirit Day of the year!
URL:https://brooklyncharter.org/school/spirit-day-denim-day/
END:VEVENT
BEGIN:VEVENT
DTSTART;VALUE=DATE:20240621
DTEND;VALUE=DATE:20240622
DTSTAMP:20260421T143621
CREATED:20230912T134958Z
LAST-MODIFIED:20230912T134958Z
UID:5627-1718928000-1719014399@brooklyncharter.org
SUMMARY:Spirit Day: Culture Day
DESCRIPTION:REP YOUR FLAG BCS!!!! \nOn this special day\, students and staff come together to honor and showcase the many different cultures that enrich our campus. Imagine a school adorned with flags\, decorations\, and vibrant traditional attire from around the world. It’s a day when students proudly wear clothing that represents their cultural heritage or simply choose to learn about and celebrate a culture different from their own.
URL:https://brooklyncharter.org/school/spirit-day-culture-day/
END:VEVENT
BEGIN:VEVENT
DTSTART;VALUE=DATE:20240621
DTEND;VALUE=DATE:20240622
DTSTAMP:20260421T143621
CREATED:20230722T175343Z
LAST-MODIFIED:20230722T175343Z
UID:4751-1718928000-1719014399@brooklyncharter.org
SUMMARY:Last Day for students
DESCRIPTION:
URL:https://brooklyncharter.org/school/last-day-for-students-2/
END:VEVENT
BEGIN:VEVENT
DTSTART;VALUE=DATE:20240619
DTEND;VALUE=DATE:20240620
DTSTAMP:20260421T143621
CREATED:20230722T175136Z
LAST-MODIFIED:20230722T175136Z
UID:4749-1718755200-1718841599@brooklyncharter.org
SUMMARY:Juneteenth
DESCRIPTION:School is closed
URL:https://brooklyncharter.org/school/juneteenth/
END:VEVENT
BEGIN:VEVENT
DTSTART;VALUE=DATE:20240617
DTEND;VALUE=DATE:20240618
DTSTAMP:20260421T143621
CREATED:20230722T175051Z
LAST-MODIFIED:20230722T175051Z
UID:4747-1718582400-1718668799@brooklyncharter.org
SUMMARY:EID-al-Adha
DESCRIPTION:School is closed.
URL:https://brooklyncharter.org/school/eid-al-adha/
END:VEVENT
BEGIN:VEVENT
DTSTART;VALUE=DATE:20240607
DTEND;VALUE=DATE:20240608
DTSTAMP:20260421T143621
CREATED:20230722T175011Z
LAST-MODIFIED:20230722T175011Z
UID:4745-1717718400-1717804799@brooklyncharter.org
SUMMARY:NYCDOE Clerical Day: No School for Students:  Clerical Day for Faculty
DESCRIPTION:
URL:https://brooklyncharter.org/school/nycdoe-clerical-day-no-school-for-students-clerical-day-for-faculty/
END:VEVENT
BEGIN:VEVENT
DTSTART;VALUE=DATE:20240606
DTEND;VALUE=DATE:20240607
DTSTAMP:20260421T143621
CREATED:20230722T174941Z
LAST-MODIFIED:20230722T174941Z
UID:4743-1717632000-1717718399@brooklyncharter.org
SUMMARY:Anniversary Day
DESCRIPTION:No School for students \nProfessional Development Day for Faculty.
URL:https://brooklyncharter.org/school/anniversary-day/
END:VEVENT
BEGIN:VEVENT
DTSTART;VALUE=DATE:20240527
DTEND;VALUE=DATE:20240528
DTSTAMP:20260421T143621
CREATED:20230722T174834Z
LAST-MODIFIED:20230722T174834Z
UID:4741-1716768000-1716854399@brooklyncharter.org
SUMMARY:Memorial Day
DESCRIPTION:School is closed
URL:https://brooklyncharter.org/school/memorial-day-2/
END:VEVENT
BEGIN:VEVENT
DTSTART;VALUE=DATE:20240524
DTEND;VALUE=DATE:20240525
DTSTAMP:20260421T143621
CREATED:20230912T134405Z
LAST-MODIFIED:20230912T134405Z
UID:5625-1716508800-1716595199@brooklyncharter.org
SUMMARY:Spirit Day: Crayola Day
DESCRIPTION:Crayola Day is a kaleidoscope of creativity\, where our school comes alive with a burst of vibrant colors and artistic expression! On this spirited day\, students and staff are encouraged to dress in their assigned grade color attire and embrace their inner artists.
URL:https://brooklyncharter.org/school/spirit-day-crayola-day/
END:VEVENT
BEGIN:VEVENT
DTSTART;VALUE=DATE:20240508
DTEND;VALUE=DATE:20240510
DTSTAMP:20260421T143621
CREATED:20230722T174755Z
LAST-MODIFIED:20230722T174755Z
UID:4739-1715126400-1715299199@brooklyncharter.org
SUMMARY:NYS Math Test
DESCRIPTION:Grades 3-5
URL:https://brooklyncharter.org/school/nys-math-test-2/
END:VEVENT
BEGIN:VEVENT
DTSTART;VALUE=DATE:20240422
DTEND;VALUE=DATE:20240427
DTSTAMP:20260421T143621
CREATED:20230722T174719Z
LAST-MODIFIED:20230722T174719Z
UID:4737-1713744000-1714175999@brooklyncharter.org
SUMMARY:Spring Recess
DESCRIPTION:School is closed.
URL:https://brooklyncharter.org/school/spring-recess-2/
END:VEVENT
BEGIN:VEVENT
DTSTART;VALUE=DATE:20240419
DTEND;VALUE=DATE:20240420
DTSTAMP:20260421T143621
CREATED:20230912T133632Z
LAST-MODIFIED:20230912T133632Z
UID:5623-1713484800-1713571199@brooklyncharter.org
SUMMARY:Spirit Day: Western Day
DESCRIPTION:Yeehaw! Saddle up and get ready for a rootin’ tootin’ good time because it’s Western Day at our school! On this spirited occasion\, students and staff dust off their cowboy boots\, don their finest flannel shirts\, and tip their hats to embrace the Wild West.
URL:https://brooklyncharter.org/school/spirit-day-western-day/
END:VEVENT
BEGIN:VEVENT
DTSTART;VALUE=DATE:20240410
DTEND;VALUE=DATE:20240412
DTSTAMP:20260421T143621
CREATED:20230722T174625Z
LAST-MODIFIED:20230722T174625Z
UID:4735-1712707200-1712879999@brooklyncharter.org
SUMMARY:NYS ELA Test
DESCRIPTION:(Grades 3-5)
URL:https://brooklyncharter.org/school/nys-ela-test/
END:VEVENT
BEGIN:VEVENT
DTSTART;VALUE=DATE:20240410
DTEND;VALUE=DATE:20240411
DTSTAMP:20260421T143621
CREATED:20230722T174531Z
LAST-MODIFIED:20230722T174531Z
UID:4733-1712707200-1712793599@brooklyncharter.org
SUMMARY:EID AL FITR (Full In-Person Day for Students)
DESCRIPTION:Building is open.
URL:https://brooklyncharter.org/school/eid-al-fitr-full-in-person-day-for-students/
END:VEVENT
BEGIN:VEVENT
DTSTART;VALUE=DATE:20240401
DTEND;VALUE=DATE:20240402
DTSTAMP:20260421T143621
CREATED:20230722T174430Z
LAST-MODIFIED:20230722T174430Z
UID:4731-1711929600-1712015999@brooklyncharter.org
SUMMARY:Easter Monday
DESCRIPTION:School is closed.
URL:https://brooklyncharter.org/school/easter-monday/
END:VEVENT
BEGIN:VEVENT
DTSTART;VALUE=DATE:20240329
DTEND;VALUE=DATE:20240330
DTSTAMP:20260421T143621
CREATED:20230722T174351Z
LAST-MODIFIED:20230722T174351Z
UID:4729-1711670400-1711756799@brooklyncharter.org
SUMMARY:Good Friday
DESCRIPTION:School is closed.
URL:https://brooklyncharter.org/school/good-friday/
END:VEVENT
BEGIN:VEVENT
DTSTART;VALUE=DATE:20240322
DTEND;VALUE=DATE:20240323
DTSTAMP:20260421T143621
CREATED:20230912T133521Z
LAST-MODIFIED:20230912T133521Z
UID:5621-1711065600-1711151999@brooklyncharter.org
SUMMARY:Spirit Day: Camouflage Day
DESCRIPTION:Camouflage Day is the day when our school community gets ready to blend in and stand out all at once! On this spirited occasion\, students and staff are encouraged to wear camouflage-inspired outfits\, showcasing their creativity while embracing the challenge of going incognito.
URL:https://brooklyncharter.org/school/spirit-day-camouflage-day/
END:VEVENT
BEGIN:VEVENT
DTSTART;VALUE=DATE:20240311
DTEND;VALUE=DATE:20240316
DTSTAMP:20260421T143621
CREATED:20240110T143343Z
LAST-MODIFIED:20240110T143343Z
UID:5828-1710115200-1710547199@brooklyncharter.org
SUMMARY:Book Fair
DESCRIPTION:HELLO AND WLECOME TO OUR BOOK FAIR!!! \nschool book fair is a vibrant literary event that provides students\, teachers\, and parents with an enriching opportunity to explore a diverse selection of books. Held within the school premises\, the fair encourages a love for reading by offering a range of genres and age-appropriate titles\, fostering a community-wide celebration of literature and knowledge. \n  \n 
URL:https://brooklyncharter.org/school/book-fair-2/
END:VEVENT
BEGIN:VEVENT
DTSTART;VALUE=DATE:20240304
DTEND;VALUE=DATE:20240305
DTSTAMP:20260421T143621
CREATED:20240110T143513Z
LAST-MODIFIED:20240110T143513Z
UID:5830-1709510400-1709596799@brooklyncharter.org
SUMMARY:Picture Day
DESCRIPTION:BCS Picture Day (Uniforms required and 5th grade cap & gown pictures will be taken)
URL:https://brooklyncharter.org/school/picture-day-2/
END:VEVENT
BEGIN:VEVENT
DTSTART;VALUE=DATE:20240219
DTEND;VALUE=DATE:20240224
DTSTAMP:20260421T143621
CREATED:20230722T174305Z
LAST-MODIFIED:20230722T174305Z
UID:4727-1708300800-1708732799@brooklyncharter.org
SUMMARY:Mid-Winter Recess
DESCRIPTION:School is closed
URL:https://brooklyncharter.org/school/mid-winter-recess-2/
END:VEVENT
BEGIN:VEVENT
DTSTART;VALUE=DATE:20240216
DTEND;VALUE=DATE:20240217
DTSTAMP:20260421T143621
CREATED:20230912T133251Z
LAST-MODIFIED:20230912T133251Z
UID:5619-1708041600-1708127999@brooklyncharter.org
SUMMARY:Spirit Day: Career Day
DESCRIPTION:Career Day is an inspiring and educational celebration of ambition and aspiration at our school! On this special day\, students and staff are encouraged to dress up as their dream career or profession\, giving everyone a glimpse into their future aspirations.
URL:https://brooklyncharter.org/school/spirit-day-career-day/
END:VEVENT
BEGIN:VEVENT
DTSTART;VALUE=DATE:20240131
DTEND;VALUE=DATE:20240201
DTSTAMP:20260421T143621
CREATED:20240102T151647Z
LAST-MODIFIED:20240102T151647Z
UID:5799-1706659200-1706745599@brooklyncharter.org
SUMMARY:Quarter 2 Report Cards emailed to families
DESCRIPTION:
URL:https://brooklyncharter.org/school/quarter-2-report-cards-emailed-to-families/
END:VEVENT
BEGIN:VEVENT
DTSTART;VALUE=DATE:20240130
DTEND;VALUE=DATE:20240131
DTSTAMP:20260421T143621
CREATED:20240102T152134Z
LAST-MODIFIED:20240102T152134Z
UID:5821-1706572800-1706659199@brooklyncharter.org
SUMMARY:National Draw A Dinosaur Day
DESCRIPTION:Send your dino to our Instagram @BrooklynCharterSchool
URL:https://brooklyncharter.org/school/national-draw-a-dinosaur-day/
END:VEVENT
BEGIN:VEVENT
DTSTART;VALUE=DATE:20240127
DTEND;VALUE=DATE:20240128
DTSTAMP:20260421T143621
CREATED:20240102T152055Z
LAST-MODIFIED:20240102T152055Z
UID:5819-1706313600-1706399999@brooklyncharter.org
SUMMARY:Auschwitz Liberation Day
DESCRIPTION:
URL:https://brooklyncharter.org/school/auschwitz-liberation-day/
END:VEVENT
BEGIN:VEVENT
DTSTART;VALUE=DATE:20240126
DTEND;VALUE=DATE:20240127
DTSTAMP:20260421T143621
CREATED:20230912T132901Z
LAST-MODIFIED:20230912T132901Z
UID:5617-1706227200-1706313599@brooklyncharter.org
SUMMARY:Spirit Day: Preppy Day
DESCRIPTION:Preppy Day is a nod to classic style and a celebration of the timeless\, preppy fashion aesthetic! On this spirited occasion\, students and staff come together dressed in their most sophisticated and polished attire
URL:https://brooklyncharter.org/school/spirit-day-preppy-day/
END:VEVENT
BEGIN:VEVENT
DTSTART;VALUE=DATE:20240124
DTEND;VALUE=DATE:20240125
DTSTAMP:20260421T143621
CREATED:20240102T152039Z
LAST-MODIFIED:20240102T152039Z
UID:5817-1706054400-1706140799@brooklyncharter.org
SUMMARY:"Just Do It" Day
DESCRIPTION:
URL:https://brooklyncharter.org/school/just-do-it-day/
END:VEVENT
END:VCALENDAR