BEGIN:VCALENDAR
VERSION:2.0
PRODID:-//Brooklyn Charter School - ECPv6.15.13//NONSGML v1.0//EN
CALSCALE:GREGORIAN
METHOD:PUBLISH
X-WR-CALNAME:Brooklyn Charter School
X-ORIGINAL-URL:https://brooklyncharter.org
X-WR-CALDESC:Events for Brooklyn Charter School
REFRESH-INTERVAL;VALUE=DURATION:PT1H
X-Robots-Tag:noindex
X-PUBLISHED-TTL:PT1H
BEGIN:VTIMEZONE
TZID:UTC
BEGIN:STANDARD
TZOFFSETFROM:+0000
TZOFFSETTO:+0000
TZNAME:UTC
DTSTART:20160101T000000
END:STANDARD
END:VTIMEZONE
BEGIN:VEVENT
DTSTART;VALUE=DATE:20190329
DTEND;VALUE=DATE:20190330
DTSTAMP:20260422T110447
CREATED:20180824T152432Z
LAST-MODIFIED:20180824T152432Z
UID:845-1553817600-1553903999@brooklyncharter.org
SUMMARY:BCS Spirit Day
DESCRIPTION:BCS Spirit Day
URL:https://brooklyncharter.org/school/school-spirit-day-3-2-2/
CATEGORIES:School
END:VEVENT
BEGIN:VEVENT
DTSTART;VALUE=DATE:20190218
DTEND;VALUE=DATE:20190223
DTSTAMP:20260422T110447
CREATED:20170825T175128Z
LAST-MODIFIED:20180824T151937Z
UID:518-1550448000-1550879999@brooklyncharter.org
SUMMARY:Mid Winter Recess
DESCRIPTION:School Closed- Winter Recess
URL:https://brooklyncharter.org/school/mid-winter-recess/
CATEGORIES:School
END:VEVENT
BEGIN:VEVENT
DTSTART;VALUE=DATE:20190215
DTEND;VALUE=DATE:20190216
DTSTAMP:20260422T110447
CREATED:20180824T151815Z
LAST-MODIFIED:20180824T151815Z
UID:838-1550188800-1550275199@brooklyncharter.org
SUMMARY:BCS Spirit Day
DESCRIPTION:BCS Spirit Day
URL:https://brooklyncharter.org/school/school-spirit-day-3-2/
CATEGORIES:School
END:VEVENT
BEGIN:VEVENT
DTSTART;VALUE=DATE:20190201
DTEND;VALUE=DATE:20190202
DTSTAMP:20260422T110447
CREATED:20180824T151725Z
LAST-MODIFIED:20180824T151725Z
UID:836-1548979200-1549065599@brooklyncharter.org
SUMMARY:K-5 Success Assemblies
DESCRIPTION:
URL:https://brooklyncharter.org/school/k-5-success-assemblies-2/
CATEGORIES:School
END:VEVENT
BEGIN:VEVENT
DTSTART;VALUE=DATE:20190125
DTEND;VALUE=DATE:20190126
DTSTAMP:20260422T110447
CREATED:20180824T151653Z
LAST-MODIFIED:20180824T151653Z
UID:834-1548374400-1548460799@brooklyncharter.org
SUMMARY:BCS Spirit Day
DESCRIPTION:BCS Spirit Day
URL:https://brooklyncharter.org/school/school-spirit-day-2-2/
CATEGORIES:School
END:VEVENT
BEGIN:VEVENT
DTSTART;VALUE=DATE:20190121
DTEND;VALUE=DATE:20190122
DTSTAMP:20260422T110447
CREATED:20170825T175245Z
LAST-MODIFIED:20180824T151615Z
UID:520-1548028800-1548115199@brooklyncharter.org
SUMMARY:Martin Luther King Jr. Day
DESCRIPTION:School Closed- Martin Luther King Jr. Day
URL:https://brooklyncharter.org/school/martin-luther-king-jr-day/
CATEGORIES:School
END:VEVENT
BEGIN:VEVENT
DTSTART;VALUE=DATE:20181224
DTEND;VALUE=DATE:20190102
DTSTAMP:20260422T110447
CREATED:20170825T175444Z
LAST-MODIFIED:20180824T151517Z
UID:524-1545609600-1546387199@brooklyncharter.org
SUMMARY:Winter Recess
DESCRIPTION:School Closed- Winter Recess
URL:https://brooklyncharter.org/school/winter-recess-2/
CATEGORIES:School
END:VEVENT
BEGIN:VEVENT
DTSTART;VALUE=DATE:20181221
DTEND;VALUE=DATE:20181222
DTSTAMP:20260422T110447
CREATED:20180824T151420Z
LAST-MODIFIED:20180824T151420Z
UID:831-1545350400-1545436799@brooklyncharter.org
SUMMARY:BCS Spirit Day
DESCRIPTION:BCS Spirit Day
URL:https://brooklyncharter.org/school/school-spirit-day-3/
CATEGORIES:School
END:VEVENT
BEGIN:VEVENT
DTSTART;VALUE=DATE:20181130
DTEND;VALUE=DATE:20181201
DTSTAMP:20260422T110447
CREATED:20180824T151330Z
LAST-MODIFIED:20180824T151330Z
UID:829-1543536000-1543622399@brooklyncharter.org
SUMMARY:BCS Spirit Day
DESCRIPTION:BCS Spirit Day
URL:https://brooklyncharter.org/school/school-spirit-day-2/
CATEGORIES:School
END:VEVENT
BEGIN:VEVENT
DTSTART;VALUE=DATE:20181122
DTEND;VALUE=DATE:20181124
DTSTAMP:20260422T110447
CREATED:20170825T175029Z
LAST-MODIFIED:20180824T151300Z
UID:516-1542844800-1543017599@brooklyncharter.org
SUMMARY:Thanksgiving Break
DESCRIPTION:School Closed- Thanksgiving Break
URL:https://brooklyncharter.org/school/thanksgiving-break/
CATEGORIES:School
END:VEVENT
BEGIN:VEVENT
DTSTART;VALUE=DATE:20181116
DTEND;VALUE=DATE:20181117
DTSTAMP:20260422T110447
CREATED:20180824T151227Z
LAST-MODIFIED:20180824T151227Z
UID:827-1542326400-1542412799@brooklyncharter.org
SUMMARY:K-5 Success Assemblies
DESCRIPTION:
URL:https://brooklyncharter.org/school/k-5-success-assemblies/
CATEGORIES:School
END:VEVENT
BEGIN:VEVENT
DTSTART;VALUE=DATE:20181115
DTEND;VALUE=DATE:20181116
DTSTAMP:20260422T110447
CREATED:20180824T151206Z
LAST-MODIFIED:20180824T151206Z
UID:825-1542240000-1542326399@brooklyncharter.org
SUMMARY:Parent Teacher Conferences/Early Dismissal
DESCRIPTION:12:30pm- Early Dismissal for Students \n1:30-4:00pm\, and 5:00-7:45pm-  \nParent Teacher Conferences
URL:https://brooklyncharter.org/school/parent-teacher-conferences-early-dismissal/
CATEGORIES:School
END:VEVENT
BEGIN:VEVENT
DTSTART;VALUE=DATE:20181112
DTEND;VALUE=DATE:20181113
DTSTAMP:20260422T110447
CREATED:20180824T151109Z
LAST-MODIFIED:20180824T151109Z
UID:823-1541980800-1542067199@brooklyncharter.org
SUMMARY:Veterans Day
DESCRIPTION:School Closed
URL:https://brooklyncharter.org/school/veterans-day/
CATEGORIES:School
END:VEVENT
BEGIN:VEVENT
DTSTART;VALUE=DATE:20181106
DTEND;VALUE=DATE:20181107
DTSTAMP:20260422T110447
CREATED:20180824T151036Z
LAST-MODIFIED:20180824T151036Z
UID:821-1541462400-1541548799@brooklyncharter.org
SUMMARY:Election Day
DESCRIPTION:No School for Students- Election Day \nProfessional Development Day for Teachers
URL:https://brooklyncharter.org/school/election-day/
CATEGORIES:School
END:VEVENT
BEGIN:VEVENT
DTSTART;VALUE=DATE:20181026
DTEND;VALUE=DATE:20181027
DTSTAMP:20260422T110447
CREATED:20170928T192611Z
LAST-MODIFIED:20180824T150832Z
UID:593-1540512000-1540598399@brooklyncharter.org
SUMMARY:BCS Spirit Day
DESCRIPTION:BCS Spirit Day
URL:https://brooklyncharter.org/school/school-spirit-day/
CATEGORIES:School
END:VEVENT
BEGIN:VEVENT
DTSTART;VALUE=DATE:20181008
DTEND;VALUE=DATE:20181009
DTSTAMP:20260422T110447
CREATED:20180824T150955Z
LAST-MODIFIED:20180824T150955Z
UID:819-1538956800-1539043199@brooklyncharter.org
SUMMARY:Columbus Day
DESCRIPTION:School Closed
URL:https://brooklyncharter.org/school/columbus-day-2/
CATEGORIES:School
END:VEVENT
BEGIN:VEVENT
DTSTART;TZID=UTC:20180920T170000
DTEND;TZID=UTC:20180920T193000
DTSTAMP:20260422T110447
CREATED:20180824T150742Z
LAST-MODIFIED:20180824T150907Z
UID:816-1537462800-1537471800@brooklyncharter.org
SUMMARY:Curriculum Night/PTA Meeting
DESCRIPTION:5:00-6:00pm- Curriculum Night- Session 1 \n6:00-6:30pm- Title 1/PTA Meeting \n6:30-7:30pm- Curriculum Night- Session 2
URL:https://brooklyncharter.org/school/curriculum-night-pta-meeting/
CATEGORIES:School
END:VEVENT
BEGIN:VEVENT
DTSTART;VALUE=DATE:20180910
DTEND;VALUE=DATE:20180912
DTSTAMP:20260422T110447
CREATED:20170208T124325Z
LAST-MODIFIED:20180824T150534Z
UID:186-1536537600-1536710399@brooklyncharter.org
SUMMARY:Rosh Hashanah
DESCRIPTION:School Closed- Rosh Hashanah
URL:https://brooklyncharter.org/school/rosh-hashanah/
CATEGORIES:School
END:VEVENT
BEGIN:VEVENT
DTSTART;VALUE=DATE:20180905
DTEND;VALUE=DATE:20180906
DTSTAMP:20260422T110447
CREATED:20170208T124226Z
LAST-MODIFIED:20180824T150420Z
UID:187-1536105600-1536191999@brooklyncharter.org
SUMMARY:First Day of School
DESCRIPTION:First Day of School
URL:https://brooklyncharter.org/school/first-day-of-school/
LOCATION:Contact
CATEGORIES:School
END:VEVENT
BEGIN:VEVENT
DTSTART;VALUE=DATE:20180611
DTEND;VALUE=DATE:20180612
DTSTAMP:20260422T110447
CREATED:20170825T175849Z
LAST-MODIFIED:20170825T175849Z
UID:533-1528675200-1528761599@brooklyncharter.org
SUMMARY:Clerical Day
DESCRIPTION:No School for Students- Clerical Day\n Professional Development Day for Teachers
URL:https://brooklyncharter.org/school/clerical-day/
CATEGORIES:School
END:VEVENT
BEGIN:VEVENT
DTSTART;VALUE=DATE:20180607
DTEND;VALUE=DATE:20180608
DTSTAMP:20260422T110447
CREATED:20170825T175758Z
LAST-MODIFIED:20170825T175758Z
UID:531-1528329600-1528415999@brooklyncharter.org
SUMMARY:BCS Family Picnic
DESCRIPTION:BCS Family Picnic
URL:https://brooklyncharter.org/school/bcs-family-picnic/
CATEGORIES:School
END:VEVENT
BEGIN:VEVENT
DTSTART;VALUE=DATE:20180501
DTEND;VALUE=DATE:20180503
DTSTAMP:20260422T110447
CREATED:20180425T135717Z
LAST-MODIFIED:20180425T135717Z
UID:765-1525132800-1525305599@brooklyncharter.org
SUMMARY:NYS Math Test
DESCRIPTION:
URL:https://brooklyncharter.org/school/nys-math-test/
LOCATION:Contact
CATEGORIES:School
END:VEVENT
BEGIN:VEVENT
DTSTART;VALUE=DATE:20180417
DTEND;VALUE=DATE:20180418
DTSTAMP:20260422T110447
CREATED:20170825T175342Z
LAST-MODIFIED:20170825T175633Z
UID:522-1523923200-1524009599@brooklyncharter.org
SUMMARY:3rd Quarter Parent/Teacher Conferences
DESCRIPTION:3rd Quarter Parent/Teacher Conferences- 12:00pm-3:00pm and 4:00pm-7:30pm
URL:https://brooklyncharter.org/school/3rd-quarter-parentteacher-conferences/
LOCATION:Contact
CATEGORIES:School
END:VEVENT
BEGIN:VEVENT
DTSTART;TZID=UTC:20180124T173000
DTEND;TZID=UTC:20180124T183000
DTSTAMP:20260422T110447
CREATED:20180109T200439Z
LAST-MODIFIED:20180109T200439Z
UID:672-1516815000-1516818600@brooklyncharter.org
SUMMARY:School Board Meeting
DESCRIPTION:School Board Meeting: January 24\, 2018\nTime: 5:30 p.m.\nLocation: Brooklyn Charter School
URL:https://brooklyncharter.org/school/school-board-meeting/
LOCATION:brooklyn charter school\, 545 Willoughby Ave\, Brooklyn\, NY\, 11206
CATEGORIES:School
END:VEVENT
BEGIN:VEVENT
DTSTART;VALUE=DATE:20171113
DTEND;VALUE=DATE:20171114
DTSTAMP:20260422T110447
CREATED:20170825T174925Z
LAST-MODIFIED:20170825T174925Z
UID:514-1510531200-1510617599@brooklyncharter.org
SUMMARY:1st Quarter Parent/Teacher Conferences
DESCRIPTION:1st Quarter Parent/Teacher Conferences- 12:00pm-3:00pm and 4:00pm-7:30pm
URL:https://brooklyncharter.org/school/1st-quarter-parentteacher-conferences/
LOCATION:Contact
CATEGORIES:School
END:VEVENT
BEGIN:VEVENT
DTSTART;VALUE=DATE:20171107
DTEND;VALUE=DATE:20171108
DTSTAMP:20260422T110447
CREATED:20170213T094054Z
LAST-MODIFIED:20170825T174652Z
UID:185-1510012800-1510099199@brooklyncharter.org
SUMMARY:Students- Election Day
DESCRIPTION:No School for Students- Election Day\nProfessional Development Day for Teachers
URL:https://brooklyncharter.org/school/students-election-day/
LOCATION:Contact
CATEGORIES:School
END:VEVENT
BEGIN:VEVENT
DTSTART;VALUE=DATE:20171009
DTEND;VALUE=DATE:20171010
DTSTAMP:20260422T110447
CREATED:20170203T124108Z
LAST-MODIFIED:20170825T174452Z
UID:188-1507507200-1507593599@brooklyncharter.org
SUMMARY:Columbus Day
DESCRIPTION:School Closed- Columbus Day
URL:https://brooklyncharter.org/school/columbus-day/
CATEGORIES:School
END:VEVENT
BEGIN:VEVENT
DTSTART;TZID=UTC:20171005T173000
DTEND;TZID=UTC:20171005T183000
DTSTAMP:20260422T110447
CREATED:20170928T192200Z
LAST-MODIFIED:20170928T192200Z
UID:590-1507224600-1507228200@brooklyncharter.org
SUMMARY:Board of Trustees Public Meeting
DESCRIPTION:Brooklyn Charter School Board of Trustees Public Meeting at 5:30 p.m.\, Location: BCS
URL:https://brooklyncharter.org/school/board-trustees-public-meeting/
CATEGORIES:School
END:VEVENT
END:VCALENDAR